BEGIN:VCALENDAR
VERSION:2.0
PRODID:-//Allianz NIEWIEDER - ECPv6.15.20//NONSGML v1.0//EN
CALSCALE:GREGORIAN
METHOD:PUBLISH
X-ORIGINAL-URL:https://www.allianz-niewieder.de
X-WR-CALDESC:Veranstaltungen für Allianz NIEWIEDER
REFRESH-INTERVAL;VALUE=DURATION:PT1H
X-Robots-Tag:noindex
X-PUBLISHED-TTL:PT1H
BEGIN:VTIMEZONE
TZID:Europe/Paris
BEGIN:DAYLIGHT
TZOFFSETFROM:+0100
TZOFFSETTO:+0200
TZNAME:CEST
DTSTART:20250330T010000
END:DAYLIGHT
BEGIN:STANDARD
TZOFFSETFROM:+0200
TZOFFSETTO:+0100
TZNAME:CET
DTSTART:20251026T010000
END:STANDARD
BEGIN:DAYLIGHT
TZOFFSETFROM:+0100
TZOFFSETTO:+0200
TZNAME:CEST
DTSTART:20260329T010000
END:DAYLIGHT
BEGIN:STANDARD
TZOFFSETFROM:+0200
TZOFFSETTO:+0100
TZNAME:CET
DTSTART:20261025T010000
END:STANDARD
BEGIN:DAYLIGHT
TZOFFSETFROM:+0100
TZOFFSETTO:+0200
TZNAME:CEST
DTSTART:20270328T010000
END:DAYLIGHT
BEGIN:STANDARD
TZOFFSETFROM:+0200
TZOFFSETTO:+0100
TZNAME:CET
DTSTART:20271031T010000
END:STANDARD
END:VTIMEZONE
BEGIN:VEVENT
DTSTART;TZID=Europe/Paris:20260130T190000
DTEND;TZID=Europe/Paris:20260130T210000
DTSTAMP:20260421T140003
CREATED:20260111T141544Z
LAST-MODIFIED:20260111T141544Z
UID:133-1769799600-1769806800@www.allianz-niewieder.de
SUMMARY:Klare Kante: Kandidierende zur Landtagswahlstellen sich Fragen zum Rechtsextremismus
DESCRIPTION:
URL:https://www.allianz-niewieder.de/event/klare-kante-kandidierende-zur-landtagswahlstellen-sich-fragen-zum-rechtsextremismus/
LOCATION:Gemeindehaus Winfriedheim TBB\, Schafweg 1\, Tauberbischofsheim\, Baden-Württemberg\, 97941\, Germany
END:VEVENT
END:VCALENDAR