BEGIN:VCALENDAR
VERSION:2.0
PRODID:-//Allianz NIEWIEDER - ECPv6.15.20//NONSGML v1.0//EN
CALSCALE:GREGORIAN
METHOD:PUBLISH
X-WR-CALNAME:Allianz NIEWIEDER
X-ORIGINAL-URL:https://www.allianz-niewieder.de
X-WR-CALDESC:Veranstaltungen für Allianz NIEWIEDER
REFRESH-INTERVAL;VALUE=DURATION:PT1H
X-Robots-Tag:noindex
X-PUBLISHED-TTL:PT1H
BEGIN:VTIMEZONE
TZID:Europe/Paris
BEGIN:DAYLIGHT
TZOFFSETFROM:+0100
TZOFFSETTO:+0200
TZNAME:CEST
DTSTART:20250330T010000
END:DAYLIGHT
BEGIN:STANDARD
TZOFFSETFROM:+0200
TZOFFSETTO:+0100
TZNAME:CET
DTSTART:20251026T010000
END:STANDARD
BEGIN:DAYLIGHT
TZOFFSETFROM:+0100
TZOFFSETTO:+0200
TZNAME:CEST
DTSTART:20260329T010000
END:DAYLIGHT
BEGIN:STANDARD
TZOFFSETFROM:+0200
TZOFFSETTO:+0100
TZNAME:CET
DTSTART:20261025T010000
END:STANDARD
BEGIN:DAYLIGHT
TZOFFSETFROM:+0100
TZOFFSETTO:+0200
TZNAME:CEST
DTSTART:20270328T010000
END:DAYLIGHT
BEGIN:STANDARD
TZOFFSETFROM:+0200
TZOFFSETTO:+0100
TZNAME:CET
DTSTART:20271031T010000
END:STANDARD
END:VTIMEZONE
BEGIN:VEVENT
DTSTART;TZID=Europe/Paris:20260214T100000
DTEND;TZID=Europe/Paris:20260214T130000
DTSTAMP:20260421T135920
CREATED:20260210T120450Z
LAST-MODIFIED:20260210T120450Z
UID:158-1771063200-1771074000@www.allianz-niewieder.de
SUMMARY:Ja zu unserer freiheitlich-demokratischen Grundordnung - Nein zu Rechtspopulismus
DESCRIPTION:An den vier Samstagen (14.02\, 21.02.\, 28.02. und 07.03.26) werden wir als Initiative lebendige Demokratie Eberbach jeweils von 10:00-13:00 Uhr mit unserem Infostand auf dem Markt (am Leopoldsplatz) sein und dafür werben\, an der Landtagswahl am 08.03.26 teilzunehmen und demokratisch zu wählen. \nHier geht’s zum Veranstaltungsflyer. \nUnd natürlich freuen wir uns ganz besonders über Besucher am Stand! \n \n \n 
URL:https://www.allianz-niewieder.de/event/ja-zu-unserer-freiheitlich-demokratischen-grundordnung-nein-zu-rechtspopulismus/
LOCATION:Leopoldsplatz Eberbach\, Leopoldsplatz\, Eberbach\, Baden-Württemberg\, 69412\, Germany
ORGANIZER;CN="Lebendige  Demokratie Eberbach":MAILTO:info@lebendige-demokratie-eberbach.de
END:VEVENT
END:VCALENDAR