BEGIN:VCALENDAR
VERSION:2.0
PRODID:-//Allianz NIEWIEDER - ECPv6.15.20//NONSGML v1.0//EN
CALSCALE:GREGORIAN
METHOD:PUBLISH
X-ORIGINAL-URL:https://www.allianz-niewieder.de
X-WR-CALDESC:Veranstaltungen für Allianz NIEWIEDER
REFRESH-INTERVAL;VALUE=DURATION:PT1H
X-Robots-Tag:noindex
X-PUBLISHED-TTL:PT1H
BEGIN:VTIMEZONE
TZID:Europe/Paris
BEGIN:DAYLIGHT
TZOFFSETFROM:+0100
TZOFFSETTO:+0200
TZNAME:CEST
DTSTART:20250330T010000
END:DAYLIGHT
BEGIN:STANDARD
TZOFFSETFROM:+0200
TZOFFSETTO:+0100
TZNAME:CET
DTSTART:20251026T010000
END:STANDARD
BEGIN:DAYLIGHT
TZOFFSETFROM:+0100
TZOFFSETTO:+0200
TZNAME:CEST
DTSTART:20260329T010000
END:DAYLIGHT
BEGIN:STANDARD
TZOFFSETFROM:+0200
TZOFFSETTO:+0100
TZNAME:CET
DTSTART:20261025T010000
END:STANDARD
BEGIN:DAYLIGHT
TZOFFSETFROM:+0100
TZOFFSETTO:+0200
TZNAME:CEST
DTSTART:20270328T010000
END:DAYLIGHT
BEGIN:STANDARD
TZOFFSETFROM:+0200
TZOFFSETTO:+0100
TZNAME:CET
DTSTART:20271031T010000
END:STANDARD
END:VTIMEZONE
BEGIN:VEVENT
DTSTART;TZID=Europe/Paris:20260307T100000
DTEND;TZID=Europe/Paris:20260307T130000
DTSTAMP:20260419T144708
CREATED:20260210T120930Z
LAST-MODIFIED:20260210T120930Z
UID:167-1772877600-1772888400@www.allianz-niewieder.de
SUMMARY:Ja zu unserer freiheitlich-demokratischen Grundordnung - Nein zu Rechtspopulismus
DESCRIPTION:An den vier Samstagen (14.02\, 21.02.\, 28.02. und 07.03.26) werden wir als Initiative lebendige Demokratie Eberbach jeweils von 10:00-13:00 Uhr mit unserem Infostand auf dem Markt (am Leopoldsplatz) sein und dafür werben\, an der Landtagswahl am 08.03.26 teilzunehmen und demokratisch zu wählen. \nHier geht’s zum Veranstaltungsflyer. \nUnd natürlich freuen wir uns ganz besonders über Besucher am Stand!
URL:https://www.allianz-niewieder.de/event/ja-zu-unserer-freiheitlich-demokratischen-grundordnung-nein-zu-rechtspopulismus-4/
LOCATION:Leopoldsplatz Eberbach\, Leopoldsplatz\, Eberbach\, Baden-Württemberg\, 69412\, Germany
ORGANIZER;CN="Lebendige  Demokratie Eberbach":MAILTO:info@lebendige-demokratie-eberbach.de
END:VEVENT
BEGIN:VEVENT
DTSTART;TZID=Europe/Paris:20260307T140000
DTEND;TZID=Europe/Paris:20260307T170000
DTSTAMP:20260419T144708
CREATED:20260111T142550Z
LAST-MODIFIED:20260111T142641Z
UID:142-1772892000-1772902800@www.allianz-niewieder.de
SUMMARY:Kundgebung/Fest „Bunt. Demokratisch. Laut!“
DESCRIPTION:
URL:https://www.allianz-niewieder.de/event/kundgebung-fest-bunt-demokratisch-laut/
LOCATION:Marktplatz Bad Mergentheim\, Marktplatz\, Bad Mergentheim\, 97980\, Germany
END:VEVENT
END:VCALENDAR